BEGIN:VCALENDAR
VERSION:2.0
PRODID:-//TRI NZ - ECPv6.15.20//NONSGML v1.0//EN
CALSCALE:GREGORIAN
METHOD:PUBLISH
X-ORIGINAL-URL:https://triathlon.kiwi
X-WR-CALDESC:Events for TRI NZ
REFRESH-INTERVAL;VALUE=DURATION:PT1H
X-Robots-Tag:noindex
X-PUBLISHED-TTL:PT1H
BEGIN:VTIMEZONE
TZID:UTC
BEGIN:STANDARD
TZOFFSETFROM:+0000
TZOFFSETTO:+0000
TZNAME:UTC
DTSTART:20250101T000000
END:STANDARD
END:VTIMEZONE
BEGIN:VEVENT
DTSTART;VALUE=DATE:20260315
DTEND;VALUE=DATE:20260316
DTSTAMP:20260422T113205
CREATED:20250925T201832Z
LAST-MODIFIED:20250925T201832Z
UID:17060-1773532800-1773619199@triathlon.kiwi
SUMMARY:Brad Richards Building Sea2Sky Challenge - Triathlon\, Duathlon & Trail Run
DESCRIPTION:The Sea 2 Sky Challenge is a unique multisport event based in Christchurch\, New Zealand\, offering athletes a range of exciting and scenic challenges.
URL:https://triathlon.kiwi/event/brad-richards-building-sea2sky-challenge-triathlon-duathlon-trail-run/
LOCATION:Scarborough\, Christchurch\, New Zealand
ATTACH;FMTTYPE=image/jpeg:https://triathlon.kiwi/wp-content/uploads/2025/09/sea2sky.jpg
ORGANIZER;CN="Canterbury Triathlon Club":MAILTO:events@canterburytriclub.co.nz
END:VEVENT
END:VCALENDAR