BEGIN:VCALENDAR
VERSION:2.0
PRODID:-//TRI NZ - ECPv6.15.20//NONSGML v1.0//EN
CALSCALE:GREGORIAN
METHOD:PUBLISH
X-ORIGINAL-URL:https://triathlon.kiwi
X-WR-CALDESC:Events for TRI NZ
REFRESH-INTERVAL;VALUE=DURATION:PT1H
X-Robots-Tag:noindex
X-PUBLISHED-TTL:PT1H
BEGIN:VTIMEZONE
TZID:UTC
BEGIN:STANDARD
TZOFFSETFROM:+0000
TZOFFSETTO:+0000
TZNAME:UTC
DTSTART:20210101T000000
END:STANDARD
END:VTIMEZONE
BEGIN:VEVENT
DTSTART;VALUE=DATE:20221216
DTEND;VALUE=DATE:20221219
DTSTAMP:20260420T100312
CREATED:20221012T012244Z
LAST-MODIFIED:20221012T064759Z
UID:1700-1671148800-1671407999@triathlon.kiwi
SUMMARY:Manawatu Triathlon League 2022
DESCRIPTION:Our 3-day event will offer events for everyone! The previous edition of our event was based on events that allowed junior athletes to showcase and develop their skills but this year we’ve added in events for the age group athletes! Offering events that allow all athletes to participate is part of our long term event strategy which is symbolized in our hashtag #eventsforeveryone. Our events are based on skill development\, instilling a lifelong enjoyment of being active and network building. These values are embodied in our second event hashtag #betterneverstops and the recognition that these athletes are the future of our sport. \nU16 & U19 athletes will compete in 4 qualifying events over the MTL weekend. \nU23/Elite athletes will compete in 4 qualifying events over the weekend with the added spice of prize money for the top 5 male and top 5 female athletes. \nWe have a special interest in helping our next generation of athletes so our U13 athletes won’t be able to qualify for points for the MTL Championship as our focus on developing your skills and making sure you have fun in a safe racing environment. You’ll be in the U16 age group soon enough! \nPrepare for tight courses\, exciting events and a supportive atmosphere\, which will keep your heart pounding from start to finish. \nWe are passionate about our local facilities & environment as we look to provide exposure to both the domestic & global sporting community of the opportunities that the wider Palmerston North area can provide all athletes. \nOur 2022 events will include: \n\nToot Kit Palmy Prologue\nZone3 Grand Prix Swim\nPNorty Distance Project Invitational Road Mile (High Performance Stand Alone Event)\nThe Manawatu Secondary Schools Road Mile\nThe Manawatu Mile Event\nCentral Bicycle Studio Palmy Enduro\n\nMTL Championship\n \nYou will be able to accrue times over the weekend for the following events: \n\nToot Kit Palmy Prologue\nZone3 Grand Prix Swim\nThe Manawatu Mile Road Race\nThe Palmy Enduro Event\n\nSee you in Palmy in December!
URL:https://triathlon.kiwi/event/manawatu-triathlon-league-2022/
LOCATION:Palmerston North\, Palmerston North\, Palmerston North\, Manawatu\, 4410\, New Zealand
CATEGORIES:Community Event
ATTACH;FMTTYPE=image/jpeg:https://triathlon.kiwi/wp-content/uploads/2022/10/1603340683643.jpg
ORGANIZER;CN="Manawatu Triathlon Club":MAILTO:events@triclub.co.nz
GEO:-40.3641308;175.6280697
X-APPLE-STRUCTURED-LOCATION;VALUE=URI;X-ADDRESS=Palmerston North Palmerston North Palmerston North Manawatu 4410 New Zealand;X-APPLE-RADIUS=500;X-TITLE=Palmerston North:geo:175.6280697,-40.3641308
END:VEVENT
END:VCALENDAR