BEGIN:VCALENDAR
VERSION:2.0
PRODID:-//TRI NZ - ECPv6.15.20//NONSGML v1.0//EN
CALSCALE:GREGORIAN
METHOD:PUBLISH
X-WR-CALNAME:TRI NZ
X-ORIGINAL-URL:https://triathlon.kiwi
X-WR-CALDESC:Events for TRI NZ
REFRESH-INTERVAL;VALUE=DURATION:PT1H
X-Robots-Tag:noindex
X-PUBLISHED-TTL:PT1H
BEGIN:VTIMEZONE
TZID:UTC
BEGIN:STANDARD
TZOFFSETFROM:+0000
TZOFFSETTO:+0000
TZNAME:UTC
DTSTART:20230101T000000
END:STANDARD
END:VTIMEZONE
BEGIN:VEVENT
DTSTART;VALUE=DATE:20250330
DTEND;VALUE=DATE:20250331
DTSTAMP:20260422T101941
CREATED:20240820T203750Z
LAST-MODIFIED:20240820T203750Z
UID:13985-1743292800-1743379199@triathlon.kiwi
SUMMARY:Weet-Bix Kids TRYathlon - East Auckland
DESCRIPTION:The Sanitarium Weet-Bix Kids TRYathlon is designed for Kiwi kids aged 6-15 years to help them stay active and healthy through a programme of participation. The series has been running since 1992 and is a rite of passage for Kiwi kids. To date\, over 475\,000 Kiwi kids have given it a TRY. Open to Kiwi kids of all sporting abilities the Sanitarium Weet-Bix Kids TRYathlon is a fun day out for kids\, parents and families. Participants get to swim\, cycle\, and run their way around age appropriate courses. You can enter either as an individual or as part of a team of two.\nEvery participant who enters receives: \n\na Weet-Bix Kids TRYathlon medal\na downloadable certificate of achievement\nan official Weet-Bix Kids TRYathlon t-shirt\, drawstring kit bag & swim cap\ncomplimentary breakfast from the Weet-Bix Breakfast Tent\nPLUS the chance to WIN awesome spot prizes and meet their sporting heroes.
URL:https://triathlon.kiwi/event/weet-bix-kids-tryathlon-east-auckland/
LOCATION:Pt. England Reserve\, Point England Road\, Auckland\, 1072\, New Zealand
CATEGORIES:Community Event
ATTACH;FMTTYPE=image/png:https://triathlon.kiwi/wp-content/uploads/2024/08/Weetbix.png
ORGANIZER;CN="SMC Events":MAILTO:mountfestival@smcevents.co.nz
GEO:-36.8832563;174.872309
X-APPLE-STRUCTURED-LOCATION;VALUE=URI;X-ADDRESS=Pt. England Reserve Point England Road Auckland 1072 New Zealand;X-APPLE-RADIUS=500;X-TITLE=Point England Road:geo:174.872309,-36.8832563
END:VEVENT
BEGIN:VEVENT
DTSTART;VALUE=DATE:20250325
DTEND;VALUE=DATE:20250326
DTSTAMP:20260422T101941
CREATED:20240820T203620Z
LAST-MODIFIED:20240820T203620Z
UID:13982-1742860800-1742947199@triathlon.kiwi
SUMMARY:Weet-Bix Kids TRYathlon - New Plymouth
DESCRIPTION:The Sanitarium Weet-Bix Kids TRYathlon is designed for Kiwi kids aged 6-15 years to help them stay active and healthy through a programme of participation. The series has been running since 1992 and is a rite of passage for Kiwi kids. To date\, over 475\,000 Kiwi kids have given it a TRY. Open to Kiwi kids of all sporting abilities the Sanitarium Weet-Bix Kids TRYathlon is a fun day out for kids\, parents and families. Participants get to swim\, cycle\, and run their way around age appropriate courses. You can enter either as an individual or as part of a team of two.\nEvery participant who enters receives: \n\na Weet-Bix Kids TRYathlon medal\na downloadable certificate of achievement\nan official Weet-Bix Kids TRYathlon t-shirt\, drawstring kit bag & swim cap\ncomplimentary breakfast from the Weet-Bix Breakfast Tent\nPLUS the chance to WIN awesome spot prizes and meet their sporting heroes.
URL:https://triathlon.kiwi/event/weet-bix-kids-tryathlon-new-plymouth/
LOCATION:Ngamotu Beach Reserve\, New Plymouth\, 7201\, New Zealand
CATEGORIES:Community Event
ATTACH;FMTTYPE=image/png:https://triathlon.kiwi/wp-content/uploads/2024/08/Weetbix.png
ORGANIZER;CN="SMC Events":MAILTO:mountfestival@smcevents.co.nz
GEO:-39.0571533;174.0794082
END:VEVENT
BEGIN:VEVENT
DTSTART;VALUE=DATE:20250318
DTEND;VALUE=DATE:20250319
DTSTAMP:20260422T101941
CREATED:20240820T203436Z
LAST-MODIFIED:20240820T203436Z
UID:13979-1742256000-1742342399@triathlon.kiwi
SUMMARY:Weet-Bix Kids TRYathlon - Palmerston North
DESCRIPTION:The Sanitarium Weet-Bix Kids TRYathlon is designed for Kiwi kids aged 6-15 years to help them stay active and healthy through a programme of participation. The series has been running since 1992 and is a rite of passage for Kiwi kids. To date\, over 475\,000 Kiwi kids have given it a TRY. Open to Kiwi kids of all sporting abilities the Sanitarium Weet-Bix Kids TRYathlon is a fun day out for kids\, parents and families. Participants get to swim\, cycle\, and run their way around age appropriate courses. You can enter either as an individual or as part of a team of two.\nEvery participant who enters receives: \n\na Weet-Bix Kids TRYathlon medal\na downloadable certificate of achievement\nan official Weet-Bix Kids TRYathlon t-shirt\, drawstring kit bag & swim cap\ncomplimentary breakfast from the Weet-Bix Breakfast Tent\nPLUS the chance to WIN awesome spot prizes and meet their sporting heroes.
URL:https://triathlon.kiwi/event/weet-bix-kids-tryathlon-palmerston-north/
LOCATION:Ongley Park\, Park Road\, Palmerston North\, 4410\, New Zealand
CATEGORIES:Community Event
ATTACH;FMTTYPE=image/png:https://triathlon.kiwi/wp-content/uploads/2024/08/Weetbix.png
ORGANIZER;CN="SMC Events":MAILTO:mountfestival@smcevents.co.nz
GEO:-40.3664745;175.6147261
X-APPLE-STRUCTURED-LOCATION;VALUE=URI;X-ADDRESS=Ongley Park Park Road Palmerston North 4410 New Zealand;X-APPLE-RADIUS=500;X-TITLE=Park Road:geo:175.6147261,-40.3664745
END:VEVENT
BEGIN:VEVENT
DTSTART;VALUE=DATE:20250316
DTEND;VALUE=DATE:20250317
DTSTAMP:20260422T101941
CREATED:20240820T203306Z
LAST-MODIFIED:20240820T203306Z
UID:13976-1742083200-1742169599@triathlon.kiwi
SUMMARY:Weet-Bix Kids TRYathlon - Wellington
DESCRIPTION:The Sanitarium Weet-Bix Kids TRYathlon is designed for Kiwi kids aged 6-15 years to help them stay active and healthy through a programme of participation. The series has been running since 1992 and is a rite of passage for Kiwi kids. To date\, over 475\,000 Kiwi kids have given it a TRY. Open to Kiwi kids of all sporting abilities the Sanitarium Weet-Bix Kids TRYathlon is a fun day out for kids\, parents and families. Participants get to swim\, cycle\, and run their way around age appropriate courses. You can enter either as an individual or as part of a team of two.\nEvery participant who enters receives: \n\na Weet-Bix Kids TRYathlon medal\na downloadable certificate of achievement\nan official Weet-Bix Kids TRYathlon t-shirt\, drawstring kit bag & swim cap\ncomplimentary breakfast from the Weet-Bix Breakfast Tent\nPLUS the chance to WIN awesome spot prizes and meet their sporting heroes.
URL:https://triathlon.kiwi/event/weet-bix-kids-tryathlon-wellington/
LOCATION:Kilbirnie Park\, Wellington\, 6022\, New Zealand
CATEGORIES:Community Event
ATTACH;FMTTYPE=image/png:https://triathlon.kiwi/wp-content/uploads/2024/08/Weetbix.png
ORGANIZER;CN="SMC Events":MAILTO:mountfestival@smcevents.co.nz
GEO:-41.3171236;174.795262
END:VEVENT
BEGIN:VEVENT
DTSTART;VALUE=DATE:20250309
DTEND;VALUE=DATE:20250310
DTSTAMP:20260422T101941
CREATED:20240820T203141Z
LAST-MODIFIED:20240820T203141Z
UID:13973-1741478400-1741564799@triathlon.kiwi
SUMMARY:Weet-Bix Kids TRYathlon - Nelson
DESCRIPTION:The Sanitarium Weet-Bix Kids TRYathlon is designed for Kiwi kids aged 6-15 years to help them stay active and healthy through a programme of participation. The series has been running since 1992 and is a rite of passage for Kiwi kids. To date\, over 475\,000 Kiwi kids have given it a TRY. Open to Kiwi kids of all sporting abilities the Sanitarium Weet-Bix Kids TRYathlon is a fun day out for kids\, parents and families. Participants get to swim\, cycle\, and run their way around age appropriate courses. You can enter either as an individual or as part of a team of two.\nEvery participant who enters receives: \n\na Weet-Bix Kids TRYathlon medal\na downloadable certificate of achievement\nan official Weet-Bix Kids TRYathlon t-shirt\, drawstring kit bag & swim cap\ncomplimentary breakfast from the Weet-Bix Breakfast Tent\nPLUS the chance to WIN awesome spot prizes and meet their sporting heroes.
URL:https://triathlon.kiwi/event/weet-bix-kids-tryathlon-nelson/
LOCATION:Tahunanui Beach Reserve\, Muritai Street\, Nelson\, 7011\, New Zealand
CATEGORIES:Community Event
ATTACH;FMTTYPE=image/png:https://triathlon.kiwi/wp-content/uploads/2024/08/Weetbix.png
ORGANIZER;CN="SMC Events":MAILTO:mountfestival@smcevents.co.nz
GEO:-41.282955;173.2472397
X-APPLE-STRUCTURED-LOCATION;VALUE=URI;X-ADDRESS=Tahunanui Beach Reserve Muritai Street Nelson 7011 New Zealand;X-APPLE-RADIUS=500;X-TITLE=Muritai Street:geo:173.2472397,-41.282955
END:VEVENT
BEGIN:VEVENT
DTSTART;VALUE=DATE:20250302
DTEND;VALUE=DATE:20250303
DTSTAMP:20260422T101941
CREATED:20240820T202937Z
LAST-MODIFIED:20240820T202937Z
UID:13970-1740873600-1740959999@triathlon.kiwi
SUMMARY:Weet-Bix Kids TRYathlon - Dunedin
DESCRIPTION:The Sanitarium Weet-Bix Kids TRYathlon is designed for Kiwi kids aged 6-15 years to help them stay active and healthy through a programme of participation. The series has been running since 1992 and is a rite of passage for Kiwi kids. To date\, over 475\,000 Kiwi kids have given it a TRY. Open to Kiwi kids of all sporting abilities the Sanitarium Weet-Bix Kids TRYathlon is a fun day out for kids\, parents and families. Participants get to swim\, cycle\, and run their way around age appropriate courses. You can enter either as an individual or as part of a team of two.\nEvery participant who enters receives: \n\na Weet-Bix Kids TRYathlon medal\na downloadable certificate of achievement\nan official Weet-Bix Kids TRYathlon t-shirt\, drawstring kit bag & swim cap\ncomplimentary breakfast from the Weet-Bix Breakfast Tent\nPLUS the chance to WIN awesome spot prizes and meet their sporting heroes.
URL:https://triathlon.kiwi/event/weet-bix-kids-tryathlon-dunedin/
LOCATION:Taieri College\, Green Street\, Mosgiel\, 9024\, New Zealand
CATEGORIES:Community Event
ATTACH;FMTTYPE=image/png:https://triathlon.kiwi/wp-content/uploads/2024/08/Weetbix.png
ORGANIZER;CN="SMC Events":MAILTO:mountfestival@smcevents.co.nz
GEO:-45.8754993;170.3521546
X-APPLE-STRUCTURED-LOCATION;VALUE=URI;X-ADDRESS=Taieri College Green Street Mosgiel 9024 New Zealand;X-APPLE-RADIUS=500;X-TITLE=Green Street:geo:170.3521546,-45.8754993
END:VEVENT
BEGIN:VEVENT
DTSTART;VALUE=DATE:20250223
DTEND;VALUE=DATE:20250224
DTSTAMP:20260422T101941
CREATED:20240820T202720Z
LAST-MODIFIED:20240820T202720Z
UID:13967-1740268800-1740355199@triathlon.kiwi
SUMMARY:Weet-Bix Kids TRYathlon - Christchurch
DESCRIPTION:The Sanitarium Weet-Bix Kids TRYathlon is designed for Kiwi kids aged 6-15 years to help them stay active and healthy through a programme of participation. The series has been running since 1992 and is a rite of passage for Kiwi kids. To date\, over 475\,000 Kiwi kids have given it a TRY. Open to Kiwi kids of all sporting abilities the Sanitarium Weet-Bix Kids TRYathlon is a fun day out for kids\, parents and families. Participants get to swim\, cycle\, and run their way around age appropriate courses. You can enter either as an individual or as part of a team of two.\nEvery participant who enters receives: \n\na Weet-Bix Kids TRYathlon medal\na downloadable certificate of achievement\nan official Weet-Bix Kids TRYathlon t-shirt\, drawstring kit bag & swim cap\ncomplimentary breakfast from the Weet-Bix Breakfast Tent\nPLUS the chance to WIN awesome spot prizes and meet their sporting heroes.
URL:https://triathlon.kiwi/event/weet-bix-kids-tryathlon-christchurch/
LOCATION:Jellie Park\, Ilam Road\, Christchurch\, 8053\, New Zealand
CATEGORIES:Community Event
ATTACH;FMTTYPE=image/png:https://triathlon.kiwi/wp-content/uploads/2024/08/Weetbix.png
ORGANIZER;CN="SMC Events":MAILTO:mountfestival@smcevents.co.nz
GEO:-43.5096022;172.5840196
X-APPLE-STRUCTURED-LOCATION;VALUE=URI;X-ADDRESS=Jellie Park Ilam Road Christchurch 8053 New Zealand;X-APPLE-RADIUS=500;X-TITLE=Ilam Road:geo:172.5840196,-43.5096022
END:VEVENT
BEGIN:VEVENT
DTSTART;VALUE=DATE:20250212
DTEND;VALUE=DATE:20250213
DTSTAMP:20260422T101941
CREATED:20240820T202534Z
LAST-MODIFIED:20240820T202534Z
UID:13964-1739318400-1739404799@triathlon.kiwi
SUMMARY:Weet-Bix Kids TRYathlon - Hastings
DESCRIPTION:The Sanitarium Weet-Bix Kids TRYathlon is designed for Kiwi kids aged 6-15 years to help them stay active and healthy through a programme of participation. The series has been running since 1992 and is a rite of passage for Kiwi kids. To date\, over 475\,000 Kiwi kids have given it a TRY. Open to Kiwi kids of all sporting abilities the Sanitarium Weet-Bix Kids TRYathlon is a fun day out for kids\, parents and families. Participants get to swim\, cycle\, and run their way around age appropriate courses. You can enter either as an individual or as part of a team of two.\nEvery participant who enters receives: \n\na Weet-Bix Kids TRYathlon medal\na downloadable certificate of achievement\nan official Weet-Bix Kids TRYathlon t-shirt\, drawstring kit bag & swim cap\ncomplimentary breakfast from the Weet-Bix Breakfast Tent\nPLUS the chance to WIN awesome spot prizes and meet their sporting heroes.
URL:https://triathlon.kiwi/event/weet-bix-kids-tryathlon-hastings/
LOCATION:Mitre 10 Sports Park\, Percival Road\, Hastings\, 4120\, New Zealand
CATEGORIES:Community Event
ATTACH;FMTTYPE=image/png:https://triathlon.kiwi/wp-content/uploads/2024/08/Weetbix.png
ORGANIZER;CN="SMC Events":MAILTO:mountfestival@smcevents.co.nz
GEO:-39.6123408;176.8356221
X-APPLE-STRUCTURED-LOCATION;VALUE=URI;X-ADDRESS=Mitre 10 Sports Park Percival Road Hastings 4120 New Zealand;X-APPLE-RADIUS=500;X-TITLE=Percival Road:geo:176.8356221,-39.6123408
END:VEVENT
BEGIN:VEVENT
DTSTART;VALUE=DATE:20250118
DTEND;VALUE=DATE:20250119
DTSTAMP:20260422T101941
CREATED:20220907T021020Z
LAST-MODIFIED:20240818T235003Z
UID:1065-1737158400-1737244799@triathlon.kiwi
SUMMARY:Fulton Hogan Mount Festival of Multisport
DESCRIPTION:Incorporating the: \n\nTri NZ Suzuki Series mid-distance Triathlon Champs\nMid Distance Triathlon primary qualifier for World Triathlon Multisport World Championships\nMid Distance Aquabike endorsed qualifier for World Triathlon Multisport World Championships
URL:https://triathlon.kiwi/event/mount-festival-of-multisport/
LOCATION:Pilot Bay\, Pilot Bay Beach\, Mount Maunganui\, Tauranga\, 3116\, New Zealand
CATEGORIES:Tri NZ National Series
ATTACH;FMTTYPE=image/png:https://triathlon.kiwi/wp-content/uploads/2022/09/mount.png
ORGANIZER;CN="SMC Events":MAILTO:mountfestival@smcevents.co.nz
GEO:-37.6344941;176.1770411
X-APPLE-STRUCTURED-LOCATION;VALUE=URI;X-ADDRESS=Pilot Bay Pilot Bay Beach Mount Maunganui Tauranga 3116 New Zealand;X-APPLE-RADIUS=500;X-TITLE=Pilot Bay Beach:geo:176.1770411,-37.6344941
END:VEVENT
BEGIN:VEVENT
DTSTART;VALUE=DATE:20241208
DTEND;VALUE=DATE:20241209
DTSTAMP:20260422T101941
CREATED:20240820T202238Z
LAST-MODIFIED:20240820T202300Z
UID:13960-1733616000-1733702399@triathlon.kiwi
SUMMARY:Weet-Bix Kids TRYathlon - Hamilton
DESCRIPTION:The Sanitarium Weet-Bix Kids TRYathlon is designed for Kiwi kids aged 6-15 years to help them stay active and healthy through a programme of participation. The series has been running since 1992 and is a rite of passage for Kiwi kids. To date\, over 475\,000 Kiwi kids have given it a TRY. Open to Kiwi kids of all sporting abilities the Sanitarium Weet-Bix Kids TRYathlon is a fun day out for kids\, parents and families. Participants get to swim\, cycle\, and run their way around age appropriate courses. You can enter either as an individual or as part of a team of two.\nEvery participant who enters receives: \n\n\n\na Weet-Bix Kids TRYathlon medal\n\n\na downloadable certificate of achievement\nan official Weet-Bix Kids TRYathlon t-shirt\, drawstring kit bag & swim cap\ncomplimentary breakfast from the Weet-Bix Breakfast Tent\nPLUS the chance to WIN awesome spot prizes and meet their sporting heroes.
URL:https://triathlon.kiwi/event/weet-bix-kids-tryathlon-hamilton/
LOCATION:Waikato University Fields\, Knighton Road\, Hamilton\, 3216\, New Zealand
CATEGORIES:Community Event
ATTACH;FMTTYPE=image/png:https://triathlon.kiwi/wp-content/uploads/2024/08/Weetbix.png
ORGANIZER;CN="SMC Events":MAILTO:mountfestival@smcevents.co.nz
GEO:-37.7889082;175.311006
X-APPLE-STRUCTURED-LOCATION;VALUE=URI;X-ADDRESS=Waikato University Fields Knighton Road Hamilton 3216 New Zealand;X-APPLE-RADIUS=500;X-TITLE=Knighton Road:geo:175.311006,-37.7889082
END:VEVENT
BEGIN:VEVENT
DTSTART;VALUE=DATE:20241201
DTEND;VALUE=DATE:20241202
DTSTAMP:20260422T101941
CREATED:20240820T202015Z
LAST-MODIFIED:20240820T202015Z
UID:13957-1733011200-1733097599@triathlon.kiwi
SUMMARY:Weet-Bix Kids TRYathlon - Mt. Maunganui
DESCRIPTION:The Sanitarium Weet-Bix Kids TRYathlon is designed for Kiwi kids aged 6-15 years to help them stay active and healthy through a programme of participation. The series has been running since 1992 and is a rite of passage for Kiwi kids. To date\, over 475\,000 Kiwi kids have given it a TRY. Open to Kiwi kids of all sporting abilities the Sanitarium Weet-Bix Kids TRYathlon is a fun day out for kids\, parents and families. Participants get to swim\, cycle\, and run their way around age appropriate courses. You can enter either as an individual or as part of a team of two.\nEvery participant who enters receives: \n\na Weet-Bix Kids TRYathlon medal\na downloadable certificate of achievement\nan official Weet-Bix Kids TRYathlon t-shirt\, drawstring kit bag & swim cap\ncomplimentary breakfast from the Weet-Bix Breakfast Tent\nPLUS the chance to WIN awesome spot prizes and meet their sporting heroes.
URL:https://triathlon.kiwi/event/weet-bix-kids-tryathlon-mt-maunganui/
LOCATION:Arataki Park\, Mount Maunganui\, 3116\, New Zealand
CATEGORIES:Community Event
ATTACH;FMTTYPE=image/png:https://triathlon.kiwi/wp-content/uploads/2024/08/Weetbix.png
ORGANIZER;CN="SMC Events":MAILTO:mountfestival@smcevents.co.nz
GEO:-37.6574612;176.2006008
END:VEVENT
BEGIN:VEVENT
DTSTART;VALUE=DATE:20241120
DTEND;VALUE=DATE:20241121
DTSTAMP:20260422T101941
CREATED:20240820T201802Z
LAST-MODIFIED:20240820T201802Z
UID:13953-1732060800-1732147199@triathlon.kiwi
SUMMARY:Weet-Bix Kids TRYathlon - South Auckland
DESCRIPTION:The Sanitarium Weet-Bix Kids TRYathlon is designed for Kiwi kids aged 6-15 years to help them stay active and healthy through a programme of participation. The series has been running since 1992 and is a rite of passage for Kiwi kids. To date\, over 475\,000 Kiwi kids have given it a TRY. Open to Kiwi kids of all sporting abilities the Sanitarium Weet-Bix Kids TRYathlon is a fun day out for kids\, parents and families. Participants get to swim\, cycle\, and run their way around age appropriate courses. You can enter either as an individual or as part of a team of two.\nEvery participant who enters receives: \n\na Weet-Bix Kids TRYathlon medal\na downloadable certificate of achievement\nan official Weet-Bix Kids TRYathlon t-shirt\, drawstring kit bag & swim cap\ncomplimentary breakfast from the Weet-Bix Breakfast Tent\nPLUS the chance to WIN awesome spot prizes and meet their sporting heroes.
URL:https://triathlon.kiwi/event/weet-bix-kids-tryathlon-south-auckland/
LOCATION:Mountford Park\, Weymouth Road\, Auckland\, 2102\, New Zealand
CATEGORIES:Community Event
ATTACH;FMTTYPE=image/png:https://triathlon.kiwi/wp-content/uploads/2024/08/Weetbix.png
ORGANIZER;CN="SMC Events":MAILTO:mountfestival@smcevents.co.nz
GEO:-37.0307715;174.8811309
X-APPLE-STRUCTURED-LOCATION;VALUE=URI;X-ADDRESS=Mountford Park Weymouth Road Auckland 2102 New Zealand;X-APPLE-RADIUS=500;X-TITLE=Weymouth Road:geo:174.8811309,-37.0307715
END:VEVENT
END:VCALENDAR