BEGIN:VCALENDAR
VERSION:2.0
PRODID:-//TRI NZ - ECPv6.15.20//NONSGML v1.0//EN
CALSCALE:GREGORIAN
METHOD:PUBLISH
X-WR-CALNAME:TRI NZ
X-ORIGINAL-URL:https://triathlon.kiwi
X-WR-CALDESC:Events for TRI NZ
REFRESH-INTERVAL;VALUE=DURATION:PT1H
X-Robots-Tag:noindex
X-PUBLISHED-TTL:PT1H
BEGIN:VTIMEZONE
TZID:UTC
BEGIN:STANDARD
TZOFFSETFROM:+0000
TZOFFSETTO:+0000
TZNAME:UTC
DTSTART:20250101T000000
END:STANDARD
END:VTIMEZONE
BEGIN:VEVENT
DTSTART;VALUE=DATE:20260201
DTEND;VALUE=DATE:20260202
DTSTAMP:20260420T100311
CREATED:20241018T001623Z
LAST-MODIFIED:20251007T001554Z
UID:14642-1769904000-1769990399@triathlon.kiwi
SUMMARY:Sunday 1st February Hawkes Bay Triathlon Summer Series Race #5
DESCRIPTION:Well\, when you think summer you must be thinking Triathlon! And the HB Triathlon Summer Series\, Triathlon\, Aqua Bike\, Aquathon & Duathlon is what it’s all about!  There are seven events between October 2025 and March 2026. At each event there are five different races with different distance and options that should suit everyone from the absolute beginner to the seasoned athlete. Our events cater for participants from the age of 7 to 99 and walkers are welcome and encouraged to enter. \nWebsite – https://www.trihb.kiwi/newsarticle/145509 
URL:https://triathlon.kiwi/event/sunday-9th-february-hawkes-bay-triathlon-summer-series-race-5/
LOCATION:Pandora Pond\, Pandora Pond\, Napier\, 4110\, New Zealand
CATEGORIES:Community Event
ATTACH;FMTTYPE=image/png:https://triathlon.kiwi/wp-content/uploads/2023/11/summer_series_2025_26_-1.png
GEO:-39.4858931;176.8884062
X-APPLE-STRUCTURED-LOCATION;VALUE=URI;X-ADDRESS=Pandora Pond Pandora Pond Napier 4110 New Zealand;X-APPLE-RADIUS=500;X-TITLE=Pandora Pond:geo:176.8884062,-39.4858931
END:VEVENT
BEGIN:VEVENT
DTSTART;VALUE=DATE:20260201
DTEND;VALUE=DATE:20260202
DTSTAMP:20260420T100311
CREATED:20250925T201644Z
LAST-MODIFIED:20250925T201644Z
UID:17057-1769904000-1769990399@triathlon.kiwi
SUMMARY:Canterbury Classic Triathlon & Duathlon
DESCRIPTION:The Canterbury Classic is an old school triathlon & duathlon focused on providing a good honest course with options for all ages and abilities. The Olympic distance race is a run over a testing course with plenty of hills on the bike and run.
URL:https://triathlon.kiwi/event/canterbury-classic-triathlon-duathlon/
LOCATION:Corsair Bay\, Corsair Bay\, Lyttelton\, Canterbury\, 8082\, New Zealand
ATTACH;FMTTYPE=image/webp:https://triathlon.kiwi/wp-content/uploads/2025/09/canterburyclassiclogo.webp
ORGANIZER;CN="Canterbury Triathlon Club":MAILTO:events@canterburytriclub.co.nz
GEO:-43.6057436;172.7006407
X-APPLE-STRUCTURED-LOCATION;VALUE=URI;X-ADDRESS=Corsair Bay Corsair Bay Lyttelton Canterbury 8082 New Zealand;X-APPLE-RADIUS=500;X-TITLE=Corsair Bay:geo:172.7006407,-43.6057436
END:VEVENT
BEGIN:VEVENT
DTSTART;TZID=UTC:20260201T073000
DTEND;TZID=UTC:20260201T120000
DTSTAMP:20260420T100311
CREATED:20251021T210012Z
LAST-MODIFIED:20251021T210012Z
UID:17274-1769931000-1769947200@triathlon.kiwi
SUMMARY:SHE Women’s Triathlon Series - Point England
DESCRIPTION:The SHE Women’s Triathlon Series is more than just a swim\, cycle\, and run or walk. It’s a powerful opportunity to hit pause on the demands of daily life and invest in yourself. This is your invitation to join a community of Kiwi women of all ages\, shapes\, and fitness levels for a shared challenge designed to help you rediscover your focus and put yourself first. Stepping back from the whirlwind of work and family life to focus unapologetically on yourself can feel like a big ask\, but we believe you are worth it. The distances are intentionally achievable\, and we’ve built a supportive environment to help you succeed. We know that a shared journey is more fun and that the load feels lighter when you’re with others\, so we strongly encourage you to train with friends. You can even form a team or choose a non-swim option to get to the finish line your way.
URL:https://triathlon.kiwi/event/she-womens-triathlon-series-point-england/
LOCATION:Point England\, 254 Point England Road\, Auckland\, Auckland\, 1072\, New Zealand
CATEGORIES:Community Event
ATTACH;FMTTYPE=image/jpeg:https://triathlon.kiwi/wp-content/uploads/2025/10/she_with_hug-scaled.jpg
ORGANIZER;CN="Brand New Day Ltd":MAILTO:contact@shetri.co.nz
END:VEVENT
BEGIN:VEVENT
DTSTART;VALUE=DATE:20260204
DTEND;VALUE=DATE:20260226
DTSTAMP:20260420T100311
CREATED:20251113T200053Z
LAST-MODIFIED:20251113T200053Z
UID:17335-1770163200-1772063999@triathlon.kiwi
SUMMARY:Oamaru Multisport Club Triathlon Fun Walk/Run/Duathlon Series
DESCRIPTION:
URL:https://triathlon.kiwi/event/oamaru-multisport-club-triathlon-fun-walk-run-duathlon-series/
LOCATION:Oamaru Harbour\, 5 Esplanade\, Oamaru\, 9400\, New Zealand
ATTACH;FMTTYPE=image/jpeg:https://triathlon.kiwi/wp-content/uploads/2025/11/Oamaru.jpg
GEO:-45.1070207;170.9721696
X-APPLE-STRUCTURED-LOCATION;VALUE=URI;X-ADDRESS=Oamaru Harbour 5 Esplanade Oamaru 9400 New Zealand;X-APPLE-RADIUS=500;X-TITLE=5 Esplanade:geo:170.9721696,-45.1070207
END:VEVENT
BEGIN:VEVENT
DTSTART;VALUE=DATE:20260208
DTEND;VALUE=DATE:20260209
DTSTAMP:20260420T100311
CREATED:20251130T192627Z
LAST-MODIFIED:20251130T192627Z
UID:17442-1770508800-1770595199@triathlon.kiwi
SUMMARY:Whakatane Cycle Center Ohope Sprint Triathlon
DESCRIPTION:Whakatāne Cycle Centre Ōhope Sprint Tri – Sunday 8th February 2025 Thanks to our main sponsor Whakatāne Cycle Centre\, the Eastern Bay of Plenty Triathlon and Multisport Club is excited to host a Sprint Triathlon Distance and a Super Sprint Triathlon Distance. ⏰ Registration: 8.30am till 9.30am\, Race Briefing: 9.45am\, Race Starts 10am 📍Sprint Triathlon distance (750m swim; 20km bike; 5km run) 📍Super-sprint Triathlon distance (400m swim; 12km bike; 3km run) Timing will be provided but no transponder will be provided. We look forward to seeing you on 8th of February at the beautiful\, sunny Ōhope Beach and Ohiwa Harbour ☀️
URL:https://triathlon.kiwi/event/whakatane-cycle-center-ohope-sprint-triathlon/
LOCATION:Ōhope Beach\, Ohope\, Bay of Plenty\, 3121\, New Zealand
ATTACH;FMTTYPE=image/png:https://triathlon.kiwi/wp-content/uploads/2025/11/Sprin_Tri__2_.png
END:VEVENT
BEGIN:VEVENT
DTSTART;VALUE=DATE:20260214
DTEND;VALUE=DATE:20260216
DTSTAMP:20260420T100311
CREATED:20220907T021613Z
LAST-MODIFIED:20250511T235949Z
UID:1069-1771027200-1771199999@triathlon.kiwi
SUMMARY:Tri NZ Suzuki Series Kinloch Triathlon Festival
DESCRIPTION:Incorporating the: \n\nTri NZ Suzuki Series Aquathlon National Championships and qualifier (Abu Dhabi)\nStandard Aquabike World Championship Qualifier (Pontevedra)
URL:https://triathlon.kiwi/event/seven-oaks-kinloch-triathlon-festival/
LOCATION:Kinloch\, Kinloch\, Kinloch\, Waikato\, 3377\, New Zealand
CATEGORIES:Tri NZ National Series
ATTACH;FMTTYPE=image/jpeg:https://triathlon.kiwi/wp-content/uploads/2022/09/kinloch-triathlon-festival-v3.jpg
GEO:-38.6573068;175.9252299
X-APPLE-STRUCTURED-LOCATION;VALUE=URI;X-ADDRESS=Kinloch Kinloch Kinloch Waikato 3377 New Zealand;X-APPLE-RADIUS=500;X-TITLE=Kinloch:geo:175.9252299,-38.6573068
END:VEVENT
BEGIN:VEVENT
DTSTART;VALUE=DATE:20260215
DTEND;VALUE=DATE:20260216
DTSTAMP:20260420T100311
CREATED:20250813T223933Z
LAST-MODIFIED:20250813T223933Z
UID:16745-1771113600-1771199999@triathlon.kiwi
SUMMARY:Calley Homes Womens Triathlon
DESCRIPTION:
URL:https://triathlon.kiwi/event/calley-homes-womens-triathlon/
LOCATION:Pilot Bay\, Pilot Bay Beach\, Mount Maunganui\, Tauranga\, 3116\, New Zealand
CATEGORIES:Community Event
ATTACH;FMTTYPE=image/png:https://triathlon.kiwi/wp-content/uploads/2025/08/Calley-Homes-Womens-Triathlon-1024x341-1.png
ORGANIZER;CN="Triathlon Tauranga":MAILTO:events@triathlontauranga.org.nz
GEO:-37.6344941;176.1770411
X-APPLE-STRUCTURED-LOCATION;VALUE=URI;X-ADDRESS=Pilot Bay Pilot Bay Beach Mount Maunganui Tauranga 3116 New Zealand;X-APPLE-RADIUS=500;X-TITLE=Pilot Bay Beach:geo:176.1770411,-37.6344941
END:VEVENT
BEGIN:VEVENT
DTSTART;VALUE=DATE:20260217
DTEND;VALUE=DATE:20260218
DTSTAMP:20260420T100311
CREATED:20250813T224435Z
LAST-MODIFIED:20250813T224435Z
UID:16751-1771286400-1771372799@triathlon.kiwi
SUMMARY:BOP Schools Triathlon Champs
DESCRIPTION:
URL:https://triathlon.kiwi/event/bop-schools-triathlon-champs/
LOCATION:Port Ohope\, Harbour Road\, Ōhope\, 3121\, New Zealand
CATEGORIES:Community Event
ATTACH;FMTTYPE=image/png:https://triathlon.kiwi/wp-content/uploads/2025/08/BOPSS-Blue-logo-1024x341-1.png
ORGANIZER;CN="Triathlon Tauranga":MAILTO:events@triathlontauranga.org.nz
GEO:-37.9833415;177.1078534
X-APPLE-STRUCTURED-LOCATION;VALUE=URI;X-ADDRESS=Port Ohope Harbour Road Ōhope 3121 New Zealand;X-APPLE-RADIUS=500;X-TITLE=Harbour Road:geo:177.1078534,-37.9833415
END:VEVENT
BEGIN:VEVENT
DTSTART;VALUE=DATE:20260221
DTEND;VALUE=DATE:20260222
DTSTAMP:20260420T100311
CREATED:20220907T073808Z
LAST-MODIFIED:20250512T000241Z
UID:1092-1771632000-1771718399@triathlon.kiwi
SUMMARY:Tri NZ Suzuki Series Gallagher Insurance Challenge Wanaka
DESCRIPTION:Incorporating the \nTri NZ Suzuki Series Mid-Triathlon Championships \n  \nChallenge Wanaka features one of the world’s toughest and most honest middle distance triathlon courses set against the stunning alpine backdrop of New Zealand’s Southern Alps and the Te Wahipounamu World Heritage Area. It is New Zealand’s largest triathlon festival\, featuring events for all ages and abilities involving over 2\,500 participants\, attracting 10\,000 spectators and a global audience of millions. \n\n\n\n\n\n\nPart of the legendary Challenge Family global series of triathlons\, renowned the world over for their memorable events\, Challenge Wanaka is the race of a lifetime for athletes wanting to compete and holiday in paradise.
URL:https://triathlon.kiwi/event/integrity-homes-challenge-wanaka-aquabike/
LOCATION:Wanaka\, Pembroke Park\, Wanaka\, Southland\, 9382\, New Zealand
CATEGORIES:Tri NZ National Series
ATTACH;FMTTYPE=image/png:https://triathlon.kiwi/wp-content/uploads/2022/09/Qualifier-gra-1.png
GEO:-44.6700907;169.0067954
X-APPLE-STRUCTURED-LOCATION;VALUE=URI;X-ADDRESS=Wanaka Pembroke Park Wanaka Southland 9382 New Zealand;X-APPLE-RADIUS=500;X-TITLE=Pembroke Park:geo:169.0067954,-44.6700907
END:VEVENT
BEGIN:VEVENT
DTSTART;VALUE=DATE:20260222
DTEND;VALUE=DATE:20260223
DTSTAMP:20260420T100311
CREATED:20241018T001738Z
LAST-MODIFIED:20251007T001645Z
UID:14644-1771718400-1771804799@triathlon.kiwi
SUMMARY:Sunday 22nd February Hawkes Bay Summer Series Race #6
DESCRIPTION:Well\, when you think summer you must be thinking Triathlon! And the HB Triathlon Summer Series\, Triathlon\, Aqua Bike\, Aquathon & Duathlon is what it’s all about!  There are seven events between October 2025 and March 2026. At each event there are five different races with different distance and options that should suit everyone from the absolute beginner to the seasoned athlete. Our events cater for participants from the age of 7 to 99 and walkers are welcome and encouraged to enter. \nWebsite – https://www.trihb.kiwi/newsarticle/145509 
URL:https://triathlon.kiwi/event/sunday-9th-march-hawkes-bay-summer-series-race-6/
LOCATION:Pandora Pond\, Pandora Pond\, Napier\, 4110\, New Zealand
CATEGORIES:Community Event
ATTACH;FMTTYPE=image/png:https://triathlon.kiwi/wp-content/uploads/2023/11/summer_series_2025_26_-1.png
GEO:-39.4858931;176.8884062
X-APPLE-STRUCTURED-LOCATION;VALUE=URI;X-ADDRESS=Pandora Pond Pandora Pond Napier 4110 New Zealand;X-APPLE-RADIUS=500;X-TITLE=Pandora Pond:geo:176.8884062,-39.4858931
END:VEVENT
BEGIN:VEVENT
DTSTART;TZID=UTC:20260222T073000
DTEND;TZID=UTC:20260222T120000
DTSTAMP:20260420T100311
CREATED:20251021T210234Z
LAST-MODIFIED:20251021T210234Z
UID:17277-1771745400-1771761600@triathlon.kiwi
SUMMARY:SHE Women’s Triathlon Series - Selwyn
DESCRIPTION:The SHE Women’s Triathlon Series is more than just a swim\, cycle\, and run or walk. It’s a powerful opportunity to hit pause on the demands of daily life and invest in yourself. This is your invitation to join a community of Kiwi women of all ages\, shapes\, and fitness levels for a shared challenge designed to help you rediscover your focus and put yourself first. Stepping back from the whirlwind of work and family life to focus unapologetically on yourself can feel like a big ask\, but we believe you are worth it. The distances are intentionally achievable\, and we’ve built a supportive environment to help you succeed. We know that a shared journey is more fun and that the load feels lighter when you’re with others\, so we strongly encourage you to train with friends. You can even form a team or choose a non-swim option to get to the finish line your way.
URL:https://triathlon.kiwi/event/she-womens-triathlon-series-selwyn/
LOCATION:Selwyn Aquatic Centre\, 71 Broadlands Drive\, Rolleston\, Canterbury\, 7643\, New Zealand
CATEGORIES:Community Event
ATTACH;FMTTYPE=image/jpeg:https://triathlon.kiwi/wp-content/uploads/2025/10/she_with_hug-scaled.jpg
ORGANIZER;CN="Brand New Day Ltd":MAILTO:contact@shetri.co.nz
END:VEVENT
END:VCALENDAR