BEGIN:VCALENDAR
VERSION:2.0
PRODID:-//TRI NZ - ECPv6.15.20//NONSGML v1.0//EN
CALSCALE:GREGORIAN
METHOD:PUBLISH
X-WR-CALNAME:TRI NZ
X-ORIGINAL-URL:https://triathlon.kiwi
X-WR-CALDESC:Events for TRI NZ
REFRESH-INTERVAL;VALUE=DURATION:PT1H
X-Robots-Tag:noindex
X-PUBLISHED-TTL:PT1H
BEGIN:VTIMEZONE
TZID:UTC
BEGIN:STANDARD
TZOFFSETFROM:+0000
TZOFFSETTO:+0000
TZNAME:UTC
DTSTART:20240101T000000
END:STANDARD
END:VTIMEZONE
BEGIN:VEVENT
DTSTART;TZID=UTC:20251104T174500
DTEND;TZID=UTC:20251104T193000
DTSTAMP:20260419T123021
CREATED:20251021T205602Z
LAST-MODIFIED:20251021T205602Z
UID:17266-1762278300-1762284600@triathlon.kiwi
SUMMARY:Twilight Swim Run Series
DESCRIPTION:Over four evenings in November and December\, the Twilight Swim Run Series celebrates Auckland’s rich history of swim-run events\, welcoming athletes of all levels—from emerging juniors to Olympians and Ironman champions. Point England provides the perfect setting for quality racing\, with distances that honor the sport’s past while embracing its future\, from traditional swim-run formats to Supertri-style racing. Each day features four races: Kingi’s for ages 12 and under\, the seniors’ race for 19 and over\, the Rookie race for newcomers to open water swimming\, and the main junior race\, which simulates a true race environment with a marked transition area and penalties for equipment violations. Juniors gain valuable experience ahead of the 2028 World Age Group Championships\, and there is also a tag team option where one athlete swims and another runs. To make participation more accessible\, we offer free entry for competitors who volunteer on race day. We’re working with local clubs and coaches to make this series a key part of the sport’s development pathway\, encouraging all participants to join a local triathlon club. Whether racing solo\, in a tag team\, with a club\, or cheering from the sidelines\, the Twilight Swim Run Series welcomes every triathlete—regardless of experience\, shape\, size\, or pace. Join us to celebrate triathlon\, community\, and the thrill of the race at the 2025 Twilight Swim Run Series! \nNovember 4: Seniors – 750m Swim/5km Run; Juniors – 500m Swim/3km Run; Rookie – 250m Swim/1.5km Run; Kingi’s – 150m Swim/1.5km Run. \nNovember 18: Seniors – 1000m Swim/3km Run; Juniors – 500m Swim/1.5km Run/250m Swim/1.5km Run; Rookie – 250m Swim/1.5km Run; Kingi’s – 150m Swim/1.5km Run. \nDecember 2: Seniors – 500m Swim/1.5km Run/250m Swim/1.5km Run; Juniors – 500m Swim/1.5km Run/250m Swim/1.5km Run; Rookie – 250m Swim/1.5km Run; Kingi’s – 150m Swim/1.5km Run. \nDecember 16: Seniors – 1.5km Run/750m Swim/3km Run; Juniors – 1.5km Run/500m Swim/3km Run; Rookie – 250m Swim/1.5km Run; Kingi’s – 150m Swim/1.5km Run.
URL:https://triathlon.kiwi/event/twilight-swim-run-series/2025-11-04/
LOCATION:Point England\, 254 Point England Road\, Auckland\, Auckland\, 1072\, New Zealand
CATEGORIES:Community Event
ATTACH;FMTTYPE=image/jpeg:https://triathlon.kiwi/wp-content/uploads/2025/10/Twilight_logo-scaled.jpg
ORGANIZER;CN="Brand New Day Ltd":MAILTO:contact@shetri.co.nz
END:VEVENT
BEGIN:VEVENT
DTSTART;VALUE=DATE:20251106
DTEND;VALUE=DATE:20251107
DTSTAMP:20260419T123021
CREATED:20251007T000647Z
LAST-MODIFIED:20251007T000647Z
UID:17119-1762387200-1762473599@triathlon.kiwi
SUMMARY:Rotorua Adaptive Triathlon
DESCRIPTION:This inclusive and inspiring multisport event is designed especially for Bay of Plenty tamariki and rangatahi with physical or intellectual disabilities. Our goal is to create a safe\, supportive\, and fun environment where every participant feels they belong in the sport of triathlon\, is celebrated for their efforts\, and can take on challenges in their own way. \n  \nShort – 400m bike\, 100m run\, 30m swim Medium – 600m bike\, 300 run\, 50m swim Long – 800m bike\, 500m run\, 80m swim
URL:https://triathlon.kiwi/event/rotorua-adaptive-triathlon/
LOCATION:Rotorua Aquatic Centre\, 18 Tarewa Road\, Rotorua\, 3010\, New Zealand
CATEGORIES:Community Event
ATTACH;FMTTYPE=image/png:https://triathlon.kiwi/wp-content/uploads/2025/10/rotorua.png
ORGANIZER;CN="RATS":MAILTO:info@rats.org.nz
END:VEVENT
BEGIN:VEVENT
DTSTART;VALUE=DATE:20251116
DTEND;VALUE=DATE:20251117
DTSTAMP:20260419T123021
CREATED:20231105T220143Z
LAST-MODIFIED:20251007T001317Z
UID:9030-1763251200-1763337599@triathlon.kiwi
SUMMARY:Sunday 16 November 2025 Triathlon Hawkes Bay  Summer Series #2
DESCRIPTION:Well\, when you think summer you must be thinking Triathlon! And the HB Triathlon Summer Series\, Triathlon\, Aqua Bike\, Aquathon & Duathlon is what it’s all about!  There are five events between October 2025 and March 2026. At each event there are five different races with different distance and options that should suit everyone from the absolute beginner to the seasoned athlete. Our events cater for participants from the age of 7 to 99 and walkers are welcome and encouraged to enter. \nWebsite: https://www.trihb.kiwi/newsarticle/145509
URL:https://triathlon.kiwi/event/sunday-17-december-2023-triathlon-hawkes-bay-summer-series-2/
LOCATION:Pandora Pond\, Pandora Pond\, Napier\, 4110\, New Zealand
CATEGORIES:Community Event
ATTACH;FMTTYPE=image/png:https://triathlon.kiwi/wp-content/uploads/2023/11/summer_series_2025_26_-1.png
GEO:-39.4858931;176.8884062
X-APPLE-STRUCTURED-LOCATION;VALUE=URI;X-ADDRESS=Pandora Pond Pandora Pond Napier 4110 New Zealand;X-APPLE-RADIUS=500;X-TITLE=Pandora Pond:geo:176.8884062,-39.4858931
END:VEVENT
BEGIN:VEVENT
DTSTART;TZID=UTC:20251118T174500
DTEND;TZID=UTC:20251118T193000
DTSTAMP:20260419T123021
CREATED:20251021T205602Z
LAST-MODIFIED:20251021T205602Z
UID:17270-1763487900-1763494200@triathlon.kiwi
SUMMARY:Twilight Swim Run Series
DESCRIPTION:Over four evenings in November and December\, the Twilight Swim Run Series celebrates Auckland’s rich history of swim-run events\, welcoming athletes of all levels—from emerging juniors to Olympians and Ironman champions. Point England provides the perfect setting for quality racing\, with distances that honor the sport’s past while embracing its future\, from traditional swim-run formats to Supertri-style racing. Each day features four races: Kingi’s for ages 12 and under\, the seniors’ race for 19 and over\, the Rookie race for newcomers to open water swimming\, and the main junior race\, which simulates a true race environment with a marked transition area and penalties for equipment violations. Juniors gain valuable experience ahead of the 2028 World Age Group Championships\, and there is also a tag team option where one athlete swims and another runs. To make participation more accessible\, we offer free entry for competitors who volunteer on race day. We’re working with local clubs and coaches to make this series a key part of the sport’s development pathway\, encouraging all participants to join a local triathlon club. Whether racing solo\, in a tag team\, with a club\, or cheering from the sidelines\, the Twilight Swim Run Series welcomes every triathlete—regardless of experience\, shape\, size\, or pace. Join us to celebrate triathlon\, community\, and the thrill of the race at the 2025 Twilight Swim Run Series! \nNovember 4: Seniors – 750m Swim/5km Run; Juniors – 500m Swim/3km Run; Rookie – 250m Swim/1.5km Run; Kingi’s – 150m Swim/1.5km Run. \nNovember 18: Seniors – 1000m Swim/3km Run; Juniors – 500m Swim/1.5km Run/250m Swim/1.5km Run; Rookie – 250m Swim/1.5km Run; Kingi’s – 150m Swim/1.5km Run. \nDecember 2: Seniors – 500m Swim/1.5km Run/250m Swim/1.5km Run; Juniors – 500m Swim/1.5km Run/250m Swim/1.5km Run; Rookie – 250m Swim/1.5km Run; Kingi’s – 150m Swim/1.5km Run. \nDecember 16: Seniors – 1.5km Run/750m Swim/3km Run; Juniors – 1.5km Run/500m Swim/3km Run; Rookie – 250m Swim/1.5km Run; Kingi’s – 150m Swim/1.5km Run.
URL:https://triathlon.kiwi/event/twilight-swim-run-series/2025-11-18/
LOCATION:Point England\, 254 Point England Road\, Auckland\, Auckland\, 1072\, New Zealand
CATEGORIES:Community Event
ATTACH;FMTTYPE=image/jpeg:https://triathlon.kiwi/wp-content/uploads/2025/10/Twilight_logo-scaled.jpg
ORGANIZER;CN="Brand New Day Ltd":MAILTO:contact@shetri.co.nz
END:VEVENT
BEGIN:VEVENT
DTSTART;VALUE=DATE:20251123
DTEND;VALUE=DATE:20251124
DTSTAMP:20260419T123021
CREATED:20220901T021656Z
LAST-MODIFIED:20250511T235839Z
UID:918-1763856000-1763942399@triathlon.kiwi
SUMMARY:Tri NZ Suzuki Series GenX/Marra Tinman Triathlon
DESCRIPTION:Incorporating: \n\nTri NZ Suzuki Standard Distance Triathlon Championships\nTri NZ Suzuki Para Sprint Triathlon Championships\nPrimary qualifier for the Age-Group World Championships Pontevedra
URL:https://triathlon.kiwi/event/tinman-triathlon/
LOCATION:Pilot Bay\, Pilot Bay Beach\, Mount Maunganui\, Tauranga\, 3116\, New Zealand
CATEGORIES:Tri NZ National Series
ATTACH;FMTTYPE=image/jpeg:https://triathlon.kiwi/wp-content/uploads/2022/09/marar.jpg
ORGANIZER;CN="Triathlon Tauranga":MAILTO:events@triathlontauranga.org.nz
GEO:-37.6344941;176.1770411
X-APPLE-STRUCTURED-LOCATION;VALUE=URI;X-ADDRESS=Pilot Bay Pilot Bay Beach Mount Maunganui Tauranga 3116 New Zealand;X-APPLE-RADIUS=500;X-TITLE=Pilot Bay Beach:geo:176.1770411,-37.6344941
END:VEVENT
BEGIN:VEVENT
DTSTART;VALUE=DATE:20251130
DTEND;VALUE=DATE:20251201
DTSTAMP:20260419T123021
CREATED:20250925T201300Z
LAST-MODIFIED:20250925T201300Z
UID:17050-1764460800-1764547199@triathlon.kiwi
SUMMARY:OxMan - Triathlon\, Duathlon & Multisport race
DESCRIPTION:The OxMan is NZ’s newest long course triathlon incorporating a festival of race options to suit all athletes. As well as our long course triathlon/duathlon/aquabike (swim/bike) we have a Mini OxMan\, a Junior OxMan for 10-16 year olds\, a kids duathlon for 5-9 year olds and run only options over 21km and 7km distances. Teams and individuals are welcome.
URL:https://triathlon.kiwi/event/oxman-triathlon-duathlon-multisport-race/
LOCATION:North Canterbury\, New Zealand
ATTACH;FMTTYPE=image/jpeg:https://triathlon.kiwi/wp-content/uploads/2025/09/oxman-bike-with-logo-scaled.jpg
ORGANIZER;CN="Canterbury Triathlon Club":MAILTO:events@canterburytriclub.co.nz
END:VEVENT
END:VCALENDAR