BEGIN:VCALENDAR
VERSION:2.0
PRODID:-//TRI NZ - ECPv6.15.20//NONSGML v1.0//EN
CALSCALE:GREGORIAN
METHOD:PUBLISH
X-WR-CALNAME:TRI NZ
X-ORIGINAL-URL:https://triathlon.kiwi
X-WR-CALDESC:Events for TRI NZ
REFRESH-INTERVAL;VALUE=DURATION:PT1H
X-Robots-Tag:noindex
X-PUBLISHED-TTL:PT1H
BEGIN:VTIMEZONE
TZID:UTC
BEGIN:STANDARD
TZOFFSETFROM:+0000
TZOFFSETTO:+0000
TZNAME:UTC
DTSTART:20240101T000000
END:STANDARD
END:VTIMEZONE
BEGIN:VEVENT
DTSTART;VALUE=DATE:20251227
DTEND;VALUE=DATE:20251228
DTSTAMP:20260419T122953
CREATED:20250813T073349Z
LAST-MODIFIED:20251205T020437Z
UID:16741-1766793600-1766879999@triathlon.kiwi
SUMMARY:EVES Surfbreaker Triathlon
DESCRIPTION:
URL:https://triathlon.kiwi/event/eves-surfbreaker-triathlon-2/
LOCATION:Mount Maunganui\, Mount Maunganui Beach\, Mount Maunganui\, Tauranga\, 3116\, New Zealand
CATEGORIES:Community Event
ATTACH;FMTTYPE=image/jpeg:https://triathlon.kiwi/wp-content/uploads/2025/12/EVES_Surfbreaker_logo-NEW-1024x272-1.jpg
ORGANIZER;CN="Triathlon Tauranga":MAILTO:events@triathlontauranga.org.nz
GEO:-37.6646852;176.2080948
X-APPLE-STRUCTURED-LOCATION;VALUE=URI;X-ADDRESS=Mount Maunganui Mount Maunganui Beach Mount Maunganui Tauranga 3116 New Zealand;X-APPLE-RADIUS=500;X-TITLE=Mount Maunganui Beach:geo:176.2080948,-37.6646852
END:VEVENT
END:VCALENDAR