BEGIN:VCALENDAR
VERSION:2.0
PRODID:-//TRI NZ - ECPv6.15.20//NONSGML v1.0//EN
CALSCALE:GREGORIAN
METHOD:PUBLISH
X-ORIGINAL-URL:https://triathlon.kiwi
X-WR-CALDESC:Events for TRI NZ
REFRESH-INTERVAL;VALUE=DURATION:PT1H
X-Robots-Tag:noindex
X-PUBLISHED-TTL:PT1H
BEGIN:VTIMEZONE
TZID:UTC
BEGIN:STANDARD
TZOFFSETFROM:+0000
TZOFFSETTO:+0000
TZNAME:UTC
DTSTART:20240101T000000
END:STANDARD
END:VTIMEZONE
BEGIN:VEVENT
DTSTART;VALUE=DATE:20251212
DTEND;VALUE=DATE:20251215
DTSTAMP:20260419T123154
CREATED:20251120T024120Z
LAST-MODIFIED:20251120T024120Z
UID:17389-1765497600-1765756799@triathlon.kiwi
SUMMARY:Future ChampioNZ Triathlon Festival
DESCRIPTION:Our Future ChampioNZ Triathlon Festival brings together New Zealand’s finest junior triathletes to take part in three days of racing\, workshops\, and fun. Over the years\, this festival was a highlight in Triathlon NZ’s national talent pathway\, and this year the festival is also part of the TriNZ National Junior Series. The festival will be decided on points awarded during each separate event throughout the weekend. Overall festival placegetters will then be awarded points as part of the National Junior Series in line with TriNZ scoring.
URL:https://triathlon.kiwi/event/future-championz-triathlon-festival/
LOCATION:Taupo\, Taupo\, 3330\, New Zealand
ATTACH;FMTTYPE=image/png:https://triathlon.kiwi/wp-content/uploads/2025/11/Screenshot-2025-11-20-at-3.40.56-PM.png
GEO:-38.7021615;176.0631561
END:VEVENT
END:VCALENDAR