BEGIN:VCALENDAR
VERSION:2.0
PRODID:-//TRI NZ - ECPv6.15.20//NONSGML v1.0//EN
CALSCALE:GREGORIAN
METHOD:PUBLISH
X-WR-CALNAME:TRI NZ
X-ORIGINAL-URL:https://triathlon.kiwi
X-WR-CALDESC:Events for TRI NZ
REFRESH-INTERVAL;VALUE=DURATION:PT1H
X-Robots-Tag:noindex
X-PUBLISHED-TTL:PT1H
BEGIN:VTIMEZONE
TZID:UTC
BEGIN:STANDARD
TZOFFSETFROM:+0000
TZOFFSETTO:+0000
TZNAME:UTC
DTSTART:20240101T000000
END:STANDARD
END:VTIMEZONE
BEGIN:VEVENT
DTSTART;VALUE=DATE:20251123
DTEND;VALUE=DATE:20251124
DTSTAMP:20260419T135930
CREATED:20220901T021656Z
LAST-MODIFIED:20250511T235839Z
UID:918-1763856000-1763942399@triathlon.kiwi
SUMMARY:Tri NZ Suzuki Series GenX/Marra Tinman Triathlon
DESCRIPTION:Incorporating: \n\nTri NZ Suzuki Standard Distance Triathlon Championships\nTri NZ Suzuki Para Sprint Triathlon Championships\nPrimary qualifier for the Age-Group World Championships Pontevedra
URL:https://triathlon.kiwi/event/tinman-triathlon/
LOCATION:Pilot Bay\, Pilot Bay Beach\, Mount Maunganui\, Tauranga\, 3116\, New Zealand
CATEGORIES:Tri NZ National Series
ATTACH;FMTTYPE=image/jpeg:https://triathlon.kiwi/wp-content/uploads/2022/09/marar.jpg
ORGANIZER;CN="Triathlon Tauranga":MAILTO:events@triathlontauranga.org.nz
GEO:-37.6344941;176.1770411
X-APPLE-STRUCTURED-LOCATION;VALUE=URI;X-ADDRESS=Pilot Bay Pilot Bay Beach Mount Maunganui Tauranga 3116 New Zealand;X-APPLE-RADIUS=500;X-TITLE=Pilot Bay Beach:geo:176.1770411,-37.6344941
END:VEVENT
END:VCALENDAR