BEGIN:VCALENDAR
VERSION:2.0
PRODID:-//TRI NZ - ECPv6.15.20//NONSGML v1.0//EN
CALSCALE:GREGORIAN
METHOD:PUBLISH
X-WR-CALNAME:TRI NZ
X-ORIGINAL-URL:https://triathlon.kiwi
X-WR-CALDESC:Events for TRI NZ
REFRESH-INTERVAL;VALUE=DURATION:PT1H
X-Robots-Tag:noindex
X-PUBLISHED-TTL:PT1H
BEGIN:VTIMEZONE
TZID:UTC
BEGIN:STANDARD
TZOFFSETFROM:+0000
TZOFFSETTO:+0000
TZNAME:UTC
DTSTART:20240101T000000
END:STANDARD
END:VTIMEZONE
BEGIN:VEVENT
DTSTART;VALUE=DATE:20251019
DTEND;VALUE=DATE:20251020
DTSTAMP:20260419T164538
CREATED:20231105T220019Z
LAST-MODIFIED:20251007T001118Z
UID:9026-1760832000-1760918399@triathlon.kiwi
SUMMARY:Triathlon Hawkes Bay Summer Series #1
DESCRIPTION:Well\, when you think summer you must be thinking Triathlon! And the HB Triathlon Summer Series\, Triathlon\, Aqua Bike\, Aquathon & Duathlon is what it’s all about!  There are five events between November 2023 and March 2024. At each event there are five different races with different distance and options that should suit everyone from the absolute beginner to the seasoned athlete. Our events cater for participants from the age of 7 to 99 and walkers are welcome and encouraged to enter. \nWebsite: https://www.trihb.kiwi/newsarticle/145509
URL:https://triathlon.kiwi/event/triathlon-hawkes-bay-summer-series-1/
LOCATION:Pandora Pond\, Pandora Pond\, Napier\, 4110\, New Zealand
CATEGORIES:Community Event
ATTACH;FMTTYPE=image/png:https://triathlon.kiwi/wp-content/uploads/2023/11/summer_series_2025_26_.png
GEO:-39.4858931;176.8884062
X-APPLE-STRUCTURED-LOCATION;VALUE=URI;X-ADDRESS=Pandora Pond Pandora Pond Napier 4110 New Zealand;X-APPLE-RADIUS=500;X-TITLE=Pandora Pond:geo:176.8884062,-39.4858931
END:VEVENT
BEGIN:VEVENT
DTSTART;VALUE=DATE:20251019
DTEND;VALUE=DATE:20251020
DTSTAMP:20260419T164538
CREATED:20250512T002550Z
LAST-MODIFIED:20250512T002550Z
UID:15884-1760832000-1760918399@triathlon.kiwi
SUMMARY:Tuffnell Drainage JD DUATHLON SERIES – Race 4
DESCRIPTION:Welcome to the home of the “JD Duathlons” \nThe inaugural JD Duathlons were established in 2009 with two Christchurch based events run by John Newsom & Dave Dwan. \nThe JD Duathlons strive to provide a variety of race options for all levels of athletes from the first timer to elite athlete and do so in a professional and safe manner. There is a great crew of sponsors on board and both John & Dave are athletes themselves so know what makes for a successful event \nWe have a race for you!! \n\nFirst timers – there is the novice race where you don’t have to line up against the big guns.\nTeams – if the full race looks a bit much find a mate or work colleague to join up with and do one part of the race.\nCorporate – why not set up a few work teams and go head to head or go against other businesses\nKids – we have a separate course for the kids with no cars to worry about\nSerious athletes – test yourself against some of the best in the region on a multi lap draft free course\nSpectators – no longer do you see 5 seconds of the race. You can see your friends\, kids or mates all the way
URL:https://triathlon.kiwi/event/tuffnell-drainage-jd-duathlon-series-race-4/
LOCATION:Southbridge Rugby Grounds\, Saint James Street\, Southbridge\, 7602\, New Zealand
CATEGORIES:Community Event
ATTACH;FMTTYPE=image/jpeg:https://triathlon.kiwi/wp-content/uploads/2024/08/tuffnell.jpg
ORGANIZER;CN="Canterbury Triathlon Club":MAILTO:events@canterburytriclub.co.nz
GEO:-43.8119152;172.2553888
X-APPLE-STRUCTURED-LOCATION;VALUE=URI;X-ADDRESS=Southbridge Rugby Grounds Saint James Street Southbridge 7602 New Zealand;X-APPLE-RADIUS=500;X-TITLE=Saint James Street:geo:172.2553888,-43.8119152
END:VEVENT
END:VCALENDAR