BEGIN:VCALENDAR
VERSION:2.0
PRODID:-//TRI NZ - ECPv6.15.20//NONSGML v1.0//EN
CALSCALE:GREGORIAN
METHOD:PUBLISH
X-ORIGINAL-URL:https://triathlon.kiwi
X-WR-CALDESC:Events for TRI NZ
REFRESH-INTERVAL;VALUE=DURATION:PT1H
X-Robots-Tag:noindex
X-PUBLISHED-TTL:PT1H
BEGIN:VTIMEZONE
TZID:UTC
BEGIN:STANDARD
TZOFFSETFROM:+0000
TZOFFSETTO:+0000
TZNAME:UTC
DTSTART:20240101T000000
END:STANDARD
END:VTIMEZONE
BEGIN:VEVENT
DTSTART;VALUE=DATE:20250914
DTEND;VALUE=DATE:20250915
DTSTAMP:20260419T164747
CREATED:20220901T020621Z
LAST-MODIFIED:20250512T001618Z
UID:909-1757808000-1757894399@triathlon.kiwi
SUMMARY:Auckland Duathlon Championships - Auckland City Triathlon Club
DESCRIPTION:The 2025 edition of the Auckland Duathlon Championships will be hosted at Māngere Bridge on 14 September 2025. \nThe ride takes place on traffic-managed\, quiet roads\, ensuring a safe and enjoyable experience\, while the run follows a mix of off-road concrete paths and gravel roads\, set against the stunning backdrop of the Manukau Harbour and the iconic Māngere Bridge. \nThe event is open to all\, novice to seasoned athletes and once again hosts the New Zealand Sprint Duathlon Championship\, New Zealand Secondary School Duathlon Championship and New Zealand Para Duathlon. \nThis event has been hosted by Auckland City Tri Club since 2009\, and was formally called the Pukekohe Sprint Duathlon. \nDistances/Events\nDuathlon (Run + Bike + Run):\nSprint: 5K + 20K + 2.5K \nU14: 2.5K + 10K + 2.5K\nU16: 3.5K + 15K + 2.5K
URL:https://triathlon.kiwi/event/duathlon/
LOCATION:Mangere Bridge\, Auckland\, 2022\, New Zealand
CATEGORIES:Community Event
ATTACH;FMTTYPE=image/webp:https://triathlon.kiwi/wp-content/uploads/2022/09/auckland.webp
GEO:-36.9526964;174.7917519
END:VEVENT
END:VCALENDAR