BEGIN:VCALENDAR
VERSION:2.0
PRODID:-//TRI NZ - ECPv6.15.20//NONSGML v1.0//EN
CALSCALE:GREGORIAN
METHOD:PUBLISH
X-ORIGINAL-URL:https://triathlon.kiwi
X-WR-CALDESC:Events for TRI NZ
REFRESH-INTERVAL;VALUE=DURATION:PT1H
X-Robots-Tag:noindex
X-PUBLISHED-TTL:PT1H
BEGIN:VTIMEZONE
TZID:UTC
BEGIN:STANDARD
TZOFFSETFROM:+0000
TZOFFSETTO:+0000
TZNAME:UTC
DTSTART:20240101T000000
END:STANDARD
END:VTIMEZONE
BEGIN:VEVENT
DTSTART;VALUE=DATE:20250810
DTEND;VALUE=DATE:20250811
DTSTAMP:20260419T181108
CREATED:20240818T232314Z
LAST-MODIFIED:20250512T002632Z
UID:13884-1754784000-1754870399@triathlon.kiwi
SUMMARY:Tuffnell Drainage JD DUATHLON SERIES - Race 1
DESCRIPTION:The first race in the 2025 Canterbury Duathlon Series is at Brookside Park in Rolleston on 25 May 2025. \nWelcome to the home of the “JD Duathlons” \nThe inaugural JD Duathlons were established in 2009 with two Christchurch based events run by John Newsom & Dave Dwan. \nThe JD Duathlons strive to provide a variety of race options for all levels of athletes from the first timer to elite athlete and do so in a professional and safe manner. There is a great crew of sponsors on board and both John & Dave are athletes themselves so know what makes for a successful event \nWe have a race for you!! \n\nFirst timers – there is the novice race where you don’t have to line up against the big guns.\nTeams – if the full race looks a bit much find a mate or work colleague to join up with and do one part of the race.\nCorporate – why not set up a few work teams and go head to head or go against other businesses\nKids – we have a separate course for the kids with no cars to worry about\nSerious athletes – test yourself against some of the best in the region on a multi lap draft free course\nSpectators – no longer do you see 5 seconds of the race. You can see your friends\, kids or mates all the way
URL:https://triathlon.kiwi/event/tuffnell-drainage-jd-duathlon-series-race-1/
LOCATION:Mandeville\, Mandeville Road\, Mandeville\, 7692\, New Zealand
CATEGORIES:Community Event
ATTACH;FMTTYPE=image/jpeg:https://triathlon.kiwi/wp-content/uploads/2024/08/tuffnell.jpg
ORGANIZER;CN="Canterbury Triathlon Club":MAILTO:events@canterburytriclub.co.nz
GEO:-43.3872546;172.5352267
X-APPLE-STRUCTURED-LOCATION;VALUE=URI;X-ADDRESS=Mandeville Mandeville Road Mandeville 7692 New Zealand;X-APPLE-RADIUS=500;X-TITLE=Mandeville Road:geo:172.5352267,-43.3872546
END:VEVENT
END:VCALENDAR