BEGIN:VCALENDAR
VERSION:2.0
PRODID:-//TRI NZ - ECPv6.15.20//NONSGML v1.0//EN
CALSCALE:GREGORIAN
METHOD:PUBLISH
X-WR-CALNAME:TRI NZ
X-ORIGINAL-URL:https://triathlon.kiwi
X-WR-CALDESC:Events for TRI NZ
REFRESH-INTERVAL;VALUE=DURATION:PT1H
X-Robots-Tag:noindex
X-PUBLISHED-TTL:PT1H
BEGIN:VTIMEZONE
TZID:UTC
BEGIN:STANDARD
TZOFFSETFROM:+0000
TZOFFSETTO:+0000
TZNAME:UTC
DTSTART:20220101T000000
END:STANDARD
END:VTIMEZONE
BEGIN:VEVENT
DTSTART;VALUE=DATE:20230201
DTEND;VALUE=DATE:20230202
DTSTAMP:20260420T115004
CREATED:20221012T070119Z
LAST-MODIFIED:20221218T081917Z
UID:1712-1675209600-1675295999@triathlon.kiwi
SUMMARY:Oamaru Multisport Club Triathlon\, Duathlon & Fun Run Series
DESCRIPTION:Oamaru Multisport Club Triathlon\, Duathlon and Fun Run Series \nWednesdays 1\, 8\, & 15 February 2023\, 6pm. \nTriathlon – 300m swim / 12k bike / 2.5k run OR 100m swim / 4k bike / 0.5k run \nDuathlon – 2k run / 12k bike / 2.5k run OR 2k run / 4k bike / 0.5k run \nFun Run – 2.5k OR 5k OR 10k
URL:https://triathlon.kiwi/event/oamaru-multisport-club-triathlon-duathlon-fun-run-series/2023-02-01/
LOCATION:Friendly Bay\, Friendly Bay\, Oamaru\, Oamaru\, 9400\, New Zealand
CATEGORIES:Community Event
ATTACH;FMTTYPE=image/jpeg:https://triathlon.kiwi/wp-content/uploads/2022/10/1603340683643-2.jpg
GEO:-45.1054;170.9717
X-APPLE-STRUCTURED-LOCATION;VALUE=URI;X-ADDRESS=Friendly Bay Friendly Bay Oamaru Oamaru 9400 New Zealand;X-APPLE-RADIUS=500;X-TITLE=Friendly Bay:geo:170.9717,-45.1054
END:VEVENT
END:VCALENDAR