BEGIN:VCALENDAR
VERSION:2.0
PRODID:-//TRI NZ - ECPv6.15.20//NONSGML v1.0//EN
CALSCALE:GREGORIAN
METHOD:PUBLISH
X-WR-CALNAME:TRI NZ
X-ORIGINAL-URL:https://triathlon.kiwi
X-WR-CALDESC:Events for TRI NZ
REFRESH-INTERVAL;VALUE=DURATION:PT1H
X-Robots-Tag:noindex
X-PUBLISHED-TTL:PT1H
BEGIN:VTIMEZONE
TZID:UTC
BEGIN:STANDARD
TZOFFSETFROM:+0000
TZOFFSETTO:+0000
TZNAME:UTC
DTSTART:20210101T000000
END:STANDARD
END:VTIMEZONE
BEGIN:VEVENT
DTSTART;TZID=UTC:20221116T180000
DTEND;TZID=UTC:20221116T180000
DTSTAMP:20260422T133204
CREATED:20221012T010945Z
LAST-MODIFIED:20221012T010945Z
UID:1691-1668621600-1668621600@triathlon.kiwi
SUMMARY:Oamaru Multisport Club Duathlon & Fun Run series
DESCRIPTION:Wednesday 16th\, 23rd\, 30th November 2021\, 6pm \nFriendly Bay\, Oamaru Duathlon \n2k run / 4k bike / 0.5k run or 2k run / 12k bike / 2.5k run Fun Run – 2.5k or 5k or 10k
URL:https://triathlon.kiwi/event/oamaru-multisport-club-duathlon-fun-run-series/2022-11-16/
LOCATION:Friendly Bay\, Friendly Bay\, Oamaru\, Oamaru\, 9400\, New Zealand
CATEGORIES:Community Event
ATTACH;FMTTYPE=image/jpeg:https://triathlon.kiwi/wp-content/uploads/2022/10/commevents-1.jpg
GEO:-45.1054;170.9717
X-APPLE-STRUCTURED-LOCATION;VALUE=URI;X-ADDRESS=Friendly Bay Friendly Bay Oamaru Oamaru 9400 New Zealand;X-APPLE-RADIUS=500;X-TITLE=Friendly Bay:geo:170.9717,-45.1054
END:VEVENT
END:VCALENDAR